BEGIN:VCALENDAR
VERSION:2.0
PRODID:-//ChamberMaster//Event Calendar 2.0//EN
METHOD:PUBLISH
X-PUBLISHED-TTL:P3D
REFRESH-INTERVAL:P3D
CALSCALE:GREGORIAN
BEGIN:VEVENT
DTSTART:20210210T180000Z
DTEND:20210210T190000Z
X-MICROSOFT-CDO-ALLDAYEVENT:FALSE
SUMMARY:NM Health Security Plan
DESCRIPTION:NM Health Security Plan by Dana Millen
X-ALT-DESC;FMTTYPE=text/html:NM Health Security Plan by Dana Millen
LOCATION:Zoom (Online)
UID:e.2925.184
SEQUENCE:3
DTSTAMP:20260421T133624Z
URL:http://chamber.aiccnm.com/events/details/nm-health-security-plan-184
END:VEVENT

END:VCALENDAR
