BEGIN:VCALENDAR
VERSION:2.0
PRODID:-//ChamberMaster//Event Calendar 2.0//EN
METHOD:PUBLISH
X-PUBLISHED-TTL:P3D
REFRESH-INTERVAL:P3D
CALSCALE:GREGORIAN
BEGIN:VEVENT
DTSTART:20230603T160000Z
DTEND:20230603T213000Z
X-MICROSOFT-CDO-ALLDAYEVENT:FALSE
SUMMARY:Native Artist-Increasing Sales through Authentic Communication
DESCRIPTION:Enhance your communication skills to build strong relationships with customerrs. Attendees will be required to participate in activities during the training.
X-ALT-DESC;FMTTYPE=text/html:<span style="font-size:16px\;"><span style="font-family:tahoma\;">Enhance your communication skills to build strong relationships with customerrs. Attendees will be required to participate in activities during the training.</span></span>
LOCATION:Indigenous Design Studio + Architecture 8008 Pennsylvania Circle NE Albuquerque\, NM 87110 Google Link: https://goo.gl/maps/v5rzZxyBov8GL1oj7?coh=178571&entry=tt
UID:e.2925.259
SEQUENCE:3
DTSTAMP:20260421T153305Z
URL:http://chamber.aiccnm.com/events/details/native-artist-increasing-sales-through-authentic-communication-259
END:VEVENT

END:VCALENDAR
